BEGIN:VCALENDAR
VERSION:2.0
PRODID:-// - ECPv6.15.20//NONSGML v1.0//EN
CALSCALE:GREGORIAN
METHOD:PUBLISH
X-ORIGINAL-URL:https://nyklang.de
X-WR-CALDESC:Veranstaltungen für 
REFRESH-INTERVAL;VALUE=DURATION:PT1H
X-Robots-Tag:noindex
X-PUBLISHED-TTL:PT1H
BEGIN:VTIMEZONE
TZID:Europe/Berlin
BEGIN:DAYLIGHT
TZOFFSETFROM:+0100
TZOFFSETTO:+0200
TZNAME:CEST
DTSTART:20240331T010000
END:DAYLIGHT
BEGIN:STANDARD
TZOFFSETFROM:+0200
TZOFFSETTO:+0100
TZNAME:CET
DTSTART:20241027T010000
END:STANDARD
BEGIN:DAYLIGHT
TZOFFSETFROM:+0100
TZOFFSETTO:+0200
TZNAME:CEST
DTSTART:20250330T010000
END:DAYLIGHT
BEGIN:STANDARD
TZOFFSETFROM:+0200
TZOFFSETTO:+0100
TZNAME:CET
DTSTART:20251026T010000
END:STANDARD
BEGIN:DAYLIGHT
TZOFFSETFROM:+0100
TZOFFSETTO:+0200
TZNAME:CEST
DTSTART:20260329T010000
END:DAYLIGHT
BEGIN:STANDARD
TZOFFSETFROM:+0200
TZOFFSETTO:+0100
TZNAME:CET
DTSTART:20261025T010000
END:STANDARD
END:VTIMEZONE
BEGIN:VEVENT
DTSTART;TZID=Europe/Berlin:20250706T150000
DTEND;TZID=Europe/Berlin:20250706T160000
DTSTAMP:20260421T123214
CREATED:20250501T084124Z
LAST-MODIFIED:20250504T113340Z
UID:3775-1751814000-1751817600@nyklang.de
SUMMARY:Familienkonzert "In between"
DESCRIPTION:Am Sonntag\, den 6. Juli 2025 kehren wir mit einem Familienkonzert in die Ev. Zionskirche in Essen-Horst zurück. In kinderfreundlicher\, lockerer Atmosphäre präsentieren wir unser aktuelles Programm „In between“ und laden zwischendurch zum Mitsingen und Mitmachen ein. \nDa Anna Goeke in diesem Jahr in Babypause ist\, wird sie derzeit von zwei Sängerinnen des Chores mit Erfahrung im Bereich Chorleitung tatkräftig unterstützt. Zu dritt haben sie sich sowohl die Auswahl der Stücke als auch die Probenarbeit aufgeteilt. Herausgekommen ist ein abwechslungsreiches Programm\, das sich zeitlich zwischen Renaissancemusik und zeitgenössischen Werken sowie geografisch zwischen Finnland und Italien – kurz: “In between” bewegt. \nDer Eintritt ist frei. \nLeitung: Anna Goeke\, Nadine Schmitz-Boll\, Emily Sossna
URL:https://nyklang.de/event/familienkonzert-in-between/
LOCATION:Zionskirche\, Dahlhauserstr. 161\, Essen\, 45279
ATTACH;FMTTYPE=image/jpeg:https://nyklang.de/wp-content/uploads/2024/11/IMG_6392.jpg
END:VEVENT
BEGIN:VEVENT
DTSTART;TZID=Europe/Berlin:20250706T170000
DTEND;TZID=Europe/Berlin:20250706T183000
DTSTAMP:20260421T123214
CREATED:20250504T113227Z
LAST-MODIFIED:20250504T113227Z
UID:3783-1751821200-1751826600@nyklang.de
SUMMARY:Konzert "In between"
DESCRIPTION:Am Sonntag\, den 6. Juli 2025 kehren wir mit einem Konzert in die evangelische Zionskirche in Essen-Horst zurück und präsentieren unser aktuelles Programm „In between“. \nDa Anna Goeke in diesem Jahr in Babypause ist\, wird sie derzeit von zwei Sängerinnen des Chores mit Erfahrung im Bereich Chorleitung tatkräftig unterstützt. Zu dritt haben sie sich sowohl die Auswahl der Stücke als auch die Probenarbeit aufgeteilt. Herausgekommen ist ein abwechslungsreiches Programm\, das sich zeitlich zwischen Renaissancemusik und zeitgenössischen Werken sowie geografisch zwischen Finnland und Italien – kurz: “In between” bewegt. \nDer Eintritt ist frei. \nLeitung: Anna Goeke\, Nadine Schmitz-Boll\, Emily Sossna
URL:https://nyklang.de/event/konzert-in-between/
LOCATION:Zionskirche\, Dahlhauserstr. 161\, Essen\, 45279
ATTACH;FMTTYPE=image/jpeg:https://nyklang.de/wp-content/uploads/2025/05/4C0036BB-B307-4816-B3A2-237F34CE4D67-3cao3suditrkpy9bbtw55dmthr-scaled.jpg
END:VEVENT
END:VCALENDAR