BEGIN:VCALENDAR
VERSION:2.0
PRODID:-//wp-events-plugin.com//7.2.3.1//EN
TZID:Europe/Berlin
X-WR-TIMEZONE:Europe/Berlin
BEGIN:VEVENT
UID:178@nyklang.de
DTSTART;TZID=Europe/Berlin:20251213T143000
DTEND;TZID=Europe/Berlin:20251213T193000
DTSTAMP:20251012T141923Z
URL:https://nyklang.de/events/adventssingen-konzert/
SUMMARY:Adventssingen + Konzert
DESCRIPTION:Adventssingen ca. 15.30 Uhr\n\nKonzert tbc\, ca. 18 Uhr
LOCATION:Marktkirche Essen\, Markt 2\, Essen\, NRW\, 45127\, Deutschland
X-APPLE-STRUCTURED-LOCATION;VALUE=URI;X-ADDRESS=Markt 2\, Essen\, NRW\, 451
 27\, Deutschland;X-APPLE-RADIUS=100;X-TITLE=Marktkirche Essen:geo:0,0
END:VEVENT
BEGIN:VTIMEZONE
TZID:Europe/Berlin
X-LIC-LOCATION:Europe/Berlin
BEGIN:STANDARD
DTSTART:20251026T020000
TZOFFSETFROM:+0200
TZOFFSETTO:+0100
TZNAME:CET
END:STANDARD
END:VTIMEZONE
END:VCALENDAR